BEGIN:VCALENDAR
VERSION:2.0
PRODID:-//EKW Eurasier Klub e.V. Sitz Weinheim - ECPv6.15.20//NONSGML v1.0//EN
CALSCALE:GREGORIAN
METHOD:PUBLISH
X-WR-CALNAME:EKW Eurasier Klub e.V. Sitz Weinheim
X-ORIGINAL-URL:https://www.eurasier-klub.de
X-WR-CALDESC:Veranstaltungen für EKW Eurasier Klub e.V. Sitz Weinheim
REFRESH-INTERVAL;VALUE=DURATION:PT1H
X-Robots-Tag:noindex
X-PUBLISHED-TTL:PT1H
BEGIN:VTIMEZONE
TZID:Europe/Berlin
BEGIN:DAYLIGHT
TZOFFSETFROM:+0100
TZOFFSETTO:+0200
TZNAME:CEST
DTSTART:20220327T010000
END:DAYLIGHT
BEGIN:STANDARD
TZOFFSETFROM:+0200
TZOFFSETTO:+0100
TZNAME:CET
DTSTART:20221030T010000
END:STANDARD
BEGIN:DAYLIGHT
TZOFFSETFROM:+0100
TZOFFSETTO:+0200
TZNAME:CEST
DTSTART:20230326T010000
END:DAYLIGHT
BEGIN:STANDARD
TZOFFSETFROM:+0200
TZOFFSETTO:+0100
TZNAME:CET
DTSTART:20231029T010000
END:STANDARD
BEGIN:DAYLIGHT
TZOFFSETFROM:+0100
TZOFFSETTO:+0200
TZNAME:CEST
DTSTART:20240331T010000
END:DAYLIGHT
BEGIN:STANDARD
TZOFFSETFROM:+0200
TZOFFSETTO:+0100
TZNAME:CET
DTSTART:20241027T010000
END:STANDARD
END:VTIMEZONE
BEGIN:VEVENT
DTSTART;TZID=Europe/Berlin:20230401T140000
DTEND;TZID=Europe/Berlin:20230401T140000
DTSTAMP:20260423T114610
CREATED:20230202T111642Z
LAST-MODIFIED:20230202T111642Z
UID:10000096-1680357600-1680357600@www.eurasier-klub.de
SUMMARY:Spaziergang Halle und Umgebung
DESCRIPTION:Eurasierspaziergang in Halle: \nAm Posthornsee/ Parkplatz / Dessauerstr. (Ende)\nAnsprechpartnerin: Petra Mai 017657581343
URL:https://www.eurasier-klub.de/event/spaziergang-halle/
CATEGORIES:Spaziergang LG Ost
ATTACH;FMTTYPE=image/jpeg:https://www.eurasier-klub.de/wp-content/uploads/2022/02/EKW-LG-Ost.jpg
END:VEVENT
END:VCALENDAR